BEGIN:VCALENDAR
VERSION:2.0
PRODID:-//sjogrenscanada.org//NONSGML kigkonsult.se iCalcreator 2.30.10//
CALSCALE:GREGORIAN
METHOD:PUBLISH
UID:c783e77f-d926-46dd-b985-84eb534fa5a5
X-WR-CALDESC:email lauren@sjogrensca.com to register for the AGM
X-WR-RELCALID:acd2dfa06f1a8289867757cf80649659
X-WR-TIMEZONE:America/New_York
BEGIN:VTIMEZONE
TZID:America/New_York
BEGIN:STANDARD
TZNAME:EST
DTSTART:20221106T020000
TZOFFSETFROM:-0400
TZOFFSETTO:-0500
RDATE:20231105T020000
END:STANDARD
BEGIN:DAYLIGHT
TZNAME:EDT
DTSTART:20230312T020000
TZOFFSETFROM:-0500
TZOFFSETTO:-0400
RDATE:20240310T020000
END:DAYLIGHT
END:VTIMEZONE
BEGIN:VEVENT
UID:b5ac43bc-3bf0-4595-b2d7-b58e304e2a00
DTSTAMP:20260421T213137Z
DESCRIPTION:email lauren@sjogrensca.com to register for the AGM
DTSTART;TZID=America/New_York:20230329T190000
DTEND;TZID=America/New_York:20230329T200000
LOCATION:Register now
SUMMARY:AGM
END:VEVENT
END:VCALENDAR
