BEGIN:VCALENDAR
VERSION:2.0
PRODID:-//sjogrenscanada.org//NONSGML kigkonsult.se iCalcreator 2.30.10//
CALSCALE:GREGORIAN
METHOD:PUBLISH
UID:902c7cb1-90f9-408c-8564-a97adce2c85b
X-WR-CALDESC:Fibromyalgia London will be hosting a FREE PUBLIC HEALTH TALK 
 On:\nLiving with Sjögren's Syndrome and Fibromyalgia\nThu\, April 13\, 1-2
 pm ET on Zoom\nGuest Speaker: Mary McNeil\, SjSC Vice President\nSee poste
 r for details and how to register to receive the zoom link.\n\nFREE but Re
 gistration is Required\nAll Are Welcome\nYou don’t need to have Fibromyalg
 ia to attend if you are looking for patient education
X-WR-RELCALID:fa8bd791d3bf2820a41e3cdacd8f35ec
X-WR-TIMEZONE:America/New_York
BEGIN:VTIMEZONE
TZID:America/New_York
BEGIN:STANDARD
TZNAME:EST
DTSTART:20221106T020000
TZOFFSETFROM:-0400
TZOFFSETTO:-0500
RDATE:20231105T020000
END:STANDARD
BEGIN:DAYLIGHT
TZNAME:EDT
DTSTART:20230312T020000
TZOFFSETFROM:-0500
TZOFFSETTO:-0400
RDATE:20240310T020000
END:DAYLIGHT
END:VTIMEZONE
BEGIN:VEVENT
UID:7fd32528-adef-4f82-91e3-5d134745a351
DTSTAMP:20260421T195718Z
DESCRIPTION:Fibromyalgia London will be hosting a FREE PUBLIC HEALTH TALK O
 n:\nLiving with Sjögren's Syndrome and Fibromyalgia\nThu\, April 13\, 1-2p
 m ET on Zoom\nGuest Speaker: Mary McNeil\, SjSC Vice President\nSee poster
  for details and how to register to receive the zoom link.\n\nFREE but Reg
 istration is Required\nAll Are Welcome\nYou don’t need to have Fibromyalgi
 a to attend if you are looking for patient education
DTSTART;TZID=America/New_York:20230413T130000
DTEND;TZID=America/New_York:20230413T143000
LOCATION:To reserve your spot\, email fmgroup.london@gmail.com
SUMMARY:Fibromyalgia London Zoom Event
END:VEVENT
END:VCALENDAR
