BEGIN:VCALENDAR
VERSION:2.0
PRODID:-//sjogrenscanada.org//NONSGML kigkonsult.se iCalcreator 2.30.10//
CALSCALE:GREGORIAN
METHOD:PUBLISH
UID:48834d2b-dea1-481f-9093-29ee09883442
X-WR-CALDESC:Sharing & Caring
X-WR-RELCALID:9c769b0fce3022163c78be8c52fd3044
X-WR-TIMEZONE:America/Chicago
BEGIN:VTIMEZONE
TZID:America/Chicago
BEGIN:STANDARD
TZNAME:CST
DTSTART:20221106T020000
TZOFFSETFROM:-0500
TZOFFSETTO:-0600
RDATE:20231105T020000
END:STANDARD
BEGIN:DAYLIGHT
TZNAME:CDT
DTSTART:20230312T020000
TZOFFSETFROM:-0600
TZOFFSETTO:-0500
RDATE:20240310T020000
END:DAYLIGHT
END:VTIMEZONE
BEGIN:VEVENT
UID:d5f471bb-4f34-4174-891a-abf8c1c58daa
DTSTAMP:20260421T195506Z
DESCRIPTION:Sharing & Caring
DTSTART;TZID=America/Chicago:20230419T183000
DTEND;TZID=America/Chicago:20230419T203000
LOCATION:https://us02web.zoom.us/j/89030593014?pwd=NUZlZXZ5U2FUb0NoaVE1TUhO
 cTFqUT09
SUMMARY:Manitoba Support Group Meeting
END:VEVENT
END:VCALENDAR
