BEGIN:VCALENDAR
VERSION:2.0
PRODID:-//sjogrenscanada.org//NONSGML kigkonsult.se iCalcreator 2.30.10//
CALSCALE:GREGORIAN
METHOD:PUBLISH
UID:4eb408d4-e789-4d59-b4ec-e32212566dec
X-WR-CALDESC:
X-WR-RELCALID:c0a980ebbf8d56d960aa8520b7d320b9
X-WR-TIMEZONE:America/New_York
BEGIN:VTIMEZONE
TZID:America/New_York
BEGIN:STANDARD
TZNAME:EST
DTSTART:20221106T020000
TZOFFSETFROM:-0400
TZOFFSETTO:-0500
RDATE:20231105T020000
END:STANDARD
BEGIN:DAYLIGHT
TZNAME:EDT
DTSTART:20230312T020000
TZOFFSETFROM:-0500
TZOFFSETTO:-0400
RDATE:20240310T020000
END:DAYLIGHT
END:VTIMEZONE
BEGIN:VEVENT
UID:475ce2e7-a2c5-4490-a35e-4cfde5f0a614
DTSTAMP:20260421T195600Z
DESCRIPTION:
DTSTART;TZID=America/New_York:20230426T190000
DTEND;TZID=America/New_York:20230426T210000
LOCATION:https://us02web.zoom.us/j/88558543195?pwd=WGsrZXZ3OXdWTmxaZHFEajI2
 eFpYQT09
SUMMARY:Durham Region Support Group Meeting
END:VEVENT
END:VCALENDAR
