BEGIN:VCALENDAR
VERSION:2.0
PRODID:-//sjogrenscanada.org//NONSGML kigkonsult.se iCalcreator 2.30.10//
CALSCALE:GREGORIAN
METHOD:PUBLISH
UID:a9df3b36-7421-4d76-b462-8b189387b34a
X-WR-CALDESC:Guest Speaker\, Julie \nWhat is Physiotherapy and how can it h
 elp?
X-WR-RELCALID:611e3f03d8a29e9c0212dbf1630f75d5
X-WR-TIMEZONE:America/New_York
BEGIN:VTIMEZONE
TZID:America/New_York
BEGIN:STANDARD
TZNAME:EST
DTSTART:20221106T020000
TZOFFSETFROM:-0400
TZOFFSETTO:-0500
RDATE:20231105T020000
END:STANDARD
BEGIN:DAYLIGHT
TZNAME:EDT
DTSTART:20230312T020000
TZOFFSETFROM:-0500
TZOFFSETTO:-0400
RDATE:20240310T020000
END:DAYLIGHT
END:VTIMEZONE
BEGIN:VEVENT
UID:b37aa1ec-1c2b-46be-acb6-8efe9493dc11
DTSTAMP:20260421T181331Z
DESCRIPTION:Guest Speaker\, Julie \nWhat is Physiotherapy and how can it he
 lp?
DTSTART;TZID=America/New_York:20230501T190000
DTEND;TZID=America/New_York:20230501T200000
LOCATION:https://us02web.zoom.us/j/86457261554?pwd=empORG96dnFZYTc2bjl2Rmh5
 TUlwZz09
SUMMARY:Montreal Support Group Meeting
END:VEVENT
END:VCALENDAR
