BEGIN:VCALENDAR
VERSION:2.0
PRODID:-//sjogrenscanada.org//NONSGML kigkonsult.se iCalcreator 2.30.10//
CALSCALE:GREGORIAN
METHOD:PUBLISH
UID:b28e8c55-e44d-48f2-a6af-a32be45c3cf0
X-WR-CALDESC:I can accommodate about 10 people in my house. \nThis will be 
 a masks on meeting. \nThis would be our first in person meeting since COVI
 D began. I know many have shared that they miss in person meetings\, I hop
 e to see a few familiar faces. \n\nPlease let me know if you can attend on
  May 18th.
X-WR-RELCALID:55d5588e095403ee9781773d8a05265f
X-WR-TIMEZONE:America/Denver
BEGIN:VTIMEZONE
TZID:America/Denver
BEGIN:STANDARD
TZNAME:MST
DTSTART:20221106T020000
TZOFFSETFROM:-0600
TZOFFSETTO:-0700
RDATE:20231105T020000
RDATE:20241103T020000
END:STANDARD
BEGIN:DAYLIGHT
TZNAME:MDT
DTSTART:20230312T020000
TZOFFSETFROM:-0700
TZOFFSETTO:-0600
RDATE:20240310T020000
END:DAYLIGHT
END:VTIMEZONE
BEGIN:VEVENT
UID:7bf5dd52-53b5-4e92-ada9-439c6dd05708
DTSTAMP:20260421T181920Z
DESCRIPTION:I can accommodate about 10 people in my house. \nThis will be a
  masks on meeting. \nThis would be our first in person meeting since COVID
  began. I know many have shared that they miss in person meetings\, I hope
  to see a few familiar faces. \n\nPlease let me know if you can attend on 
 May 18th.
DTSTART;TZID=America/Denver:20230518T180000
DTEND;TZID=America/Denver:20230518T190000
LOCATION:Heather's House (New Brighton South East)
SUMMARY:Calgary Support Group Meeting
END:VEVENT
END:VCALENDAR
