BEGIN:VCALENDAR
VERSION:2.0
PRODID:-//sjogrenscanada.org//NONSGML kigkonsult.se iCalcreator 2.30.10//
CALSCALE:GREGORIAN
METHOD:PUBLISH
UID:7880d1c3-5f33-4f6b-b1ee-07f850fc90df
X-WR-CALDESC:Find out more information about our National Walk for Sjögren'
 s and the planning options for a walk in your region.
X-WR-RELCALID:d62fb1f37414980395ea98542f85654e
X-WR-TIMEZONE:America/New_York
BEGIN:VTIMEZONE
TZID:America/New_York
BEGIN:STANDARD
TZNAME:EST
DTSTART:20221106T020000
TZOFFSETFROM:-0400
TZOFFSETTO:-0500
RDATE:20231105T020000
RDATE:20241103T020000
END:STANDARD
BEGIN:DAYLIGHT
TZNAME:EDT
DTSTART:20230312T020000
TZOFFSETFROM:-0500
TZOFFSETTO:-0400
RDATE:20240310T020000
END:DAYLIGHT
END:VTIMEZONE
BEGIN:VEVENT
UID:0b5c004c-2033-41e4-bc7a-4eb235e6e7a5
DTSTAMP:20260421T170819Z
DESCRIPTION:Find out more information about our National Walk for Sjögren's
  and the planning options for a walk in your region.
DTSTART;TZID=America/New_York:20230601T190000
DTEND;TZID=America/New_York:20230601T200000
LOCATION:https://us02web.zoom.us/j/82176633565?pwd=ZUM1M1BteFc2aGhybTB4REwy
 cWdUQT09
SUMMARY:National Walk Information Zoom Meeting
END:VEVENT
END:VCALENDAR
