BEGIN:VCALENDAR
VERSION:2.0
PRODID:-//sjogrenscanada.org//NONSGML kigkonsult.se iCalcreator 2.30.10//
CALSCALE:GREGORIAN
METHOD:PUBLISH
UID:ad1de531-ff67-4a8d-99be-aeeb4c8e4729
X-WR-CALDESC:Dr. Kara Wada\, Allergist\, presenting 'Seasonal Allergies\, S
 inuses and Sjögren’s'
X-WR-RELCALID:272ee41ac8f4159850f183b1e3b655b8
X-WR-TIMEZONE:America/New_York
BEGIN:VTIMEZONE
TZID:America/New_York
BEGIN:STANDARD
TZNAME:EST
DTSTART:20221106T020000
TZOFFSETFROM:-0400
TZOFFSETTO:-0500
RDATE:20231105T020000
RDATE:20241103T020000
END:STANDARD
BEGIN:DAYLIGHT
TZNAME:EDT
DTSTART:20230312T020000
TZOFFSETFROM:-0500
TZOFFSETTO:-0400
RDATE:20240310T020000
END:DAYLIGHT
END:VTIMEZONE
BEGIN:VEVENT
UID:3823c8ff-8505-4c7c-b9ac-dada807ee2c6
DTSTAMP:20260421T165054Z
DESCRIPTION:Dr. Kara Wada\, Allergist\, presenting 'Seasonal Allergies\, Si
 nuses and Sjögren’s'
DTSTART;TZID=America/New_York:20230613T190000
DTEND;TZID=America/New_York:20230613T203000
LOCATION:https://us02web.zoom.us/webinar/register/WN_ZTM6x60fT2GgJi8wMLoreg
SUMMARY:Members Only Virtual Town Hall
END:VEVENT
END:VCALENDAR
