BEGIN:VCALENDAR
VERSION:2.0
PRODID:-//sjogrenscanada.org//NONSGML kigkonsult.se iCalcreator 2.30.10//
CALSCALE:GREGORIAN
METHOD:PUBLISH
UID:eb4ac448-2fd4-4501-9bba-41aecb67e2f1
X-WR-CALDESC:Join our first virtual GTA Support Group Meeting on Zoom and w
 elcome to our new Support Group Leader\, Colm Hogan.
X-WR-RELCALID:b9e698ab9fa614c012accf109b5f6855
X-WR-TIMEZONE:America/New_York
BEGIN:VTIMEZONE
TZID:America/New_York
BEGIN:STANDARD
TZNAME:EST
DTSTART:20221106T020000
TZOFFSETFROM:-0400
TZOFFSETTO:-0500
RDATE:20231105T020000
RDATE:20241103T020000
END:STANDARD
BEGIN:DAYLIGHT
TZNAME:EDT
DTSTART:20230312T020000
TZOFFSETFROM:-0500
TZOFFSETTO:-0400
RDATE:20240310T020000
END:DAYLIGHT
END:VTIMEZONE
BEGIN:VEVENT
UID:7bf1f24d-55c9-4b0e-9ff2-379616b3f148
DTSTAMP:20260421T165022Z
DESCRIPTION:Join our first virtual GTA Support Group Meeting on Zoom and we
 lcome to our new Support Group Leader\, Colm Hogan.
DTSTART;TZID=America/New_York:20230629T193000
DTEND;TZID=America/New_York:20230629T203000
LOCATION:https://us02web.zoom.us/j/82615695545?pwd=YmtoaXJYSldwRCtCTkorK3dt
 MDFkdz09
SUMMARY:Greater Toronto Area (GTA) Support Group Meeting
END:VEVENT
END:VCALENDAR
