BEGIN:VCALENDAR
VERSION:2.0
PRODID:-//sjogrenscanada.org//NONSGML kigkonsult.se iCalcreator 2.30.10//
CALSCALE:GREGORIAN
METHOD:PUBLISH
UID:1bff3904-4eff-4bea-92a9-c368519570ac
X-WR-CALDESC:Sharing & Caring
X-WR-RELCALID:8b4ff5ffcada9c9fcfcc17b319a63656
X-WR-TIMEZONE:America/New_York
BEGIN:VTIMEZONE
TZID:America/New_York
BEGIN:STANDARD
TZNAME:EST
DTSTART:20221106T020000
TZOFFSETFROM:-0400
TZOFFSETTO:-0500
RDATE:20231105T020000
RDATE:20241103T020000
END:STANDARD
BEGIN:DAYLIGHT
TZNAME:EDT
DTSTART:20230312T020000
TZOFFSETFROM:-0500
TZOFFSETTO:-0400
RDATE:20240310T020000
END:DAYLIGHT
END:VTIMEZONE
BEGIN:VEVENT
UID:1cc4c526-a525-4d50-9b8a-86b7faaa67ca
DTSTAMP:20260421T153225Z
DESCRIPTION:Sharing & Caring
DTSTART;TZID=America/New_York:20230713T190000
DTEND;TZID=America/New_York:20230713T210000
LOCATION:https://carleton-ca.zoom.us/j/98730310683
SUMMARY:Ottawa Support Group Meeting
END:VEVENT
END:VCALENDAR
