BEGIN:VCALENDAR
VERSION:2.0
PRODID:-//sjogrenscanada.org//NONSGML kigkonsult.se iCalcreator 2.30.10//
CALSCALE:GREGORIAN
METHOD:PUBLISH
UID:dd2c0ea7-dfe4-4f9f-8f58-440ef7b15672
X-WR-CALDESC:
X-WR-RELCALID:d37d1795f9900db015ab735398f1e819
X-WR-TIMEZONE:America/New_York
BEGIN:VTIMEZONE
TZID:America/New_York
BEGIN:STANDARD
TZNAME:EST
DTSTART:20221106T020000
TZOFFSETFROM:-0400
TZOFFSETTO:-0500
RDATE:20231105T020000
RDATE:20241103T020000
END:STANDARD
BEGIN:DAYLIGHT
TZNAME:EDT
DTSTART:20230312T020000
TZOFFSETFROM:-0500
TZOFFSETTO:-0400
RDATE:20240310T020000
END:DAYLIGHT
END:VTIMEZONE
BEGIN:VEVENT
UID:7cab6905-059d-440b-a3b9-d75d3c8b3af6
DTSTAMP:20260421T153139Z
DESCRIPTION:
DTSTART;TZID=America/New_York:20230719T190000
DTEND;TZID=America/New_York:20230719T210000
LOCATION:https://us02web.zoom.us/j/81372020696?pwd=YlFuMml4Q3pNUGpGOG5MOVBL
 VzFmZz09
SUMMARY:Durham Region Support Group Meeting
END:VEVENT
END:VCALENDAR
