BEGIN:VCALENDAR
VERSION:2.0
PRODID:-//sjogrenscanada.org//NONSGML kigkonsult.se iCalcreator 2.30.10//
CALSCALE:GREGORIAN
METHOD:PUBLISH
UID:b02001a6-0c76-4548-9270-725adad030ce
X-WR-CALDESC:1 Block House Island Road\, Brockville\, ON\nREGISTRATION AT 7
 :00 PM\nSTROLLING BEGINS AT 7:30PM\n'WALK AT YOUR OWN PACE THROUGH CANADA'
 S OLDEST RAILWAY TUNNEL THEN AROUND BLOCK HOUSE ISLAND'\nEXPERT SPEAKERS\,
  DOOR PRIZES\, FUN FOR ALL!
X-WR-RELCALID:27622bea5494416ed5f9e5678d57e182
X-WR-TIMEZONE:America/New_York
BEGIN:VTIMEZONE
TZID:America/New_York
BEGIN:STANDARD
TZNAME:EST
DTSTART:20221106T020000
TZOFFSETFROM:-0400
TZOFFSETTO:-0500
RDATE:20231105T020000
RDATE:20241103T020000
END:STANDARD
BEGIN:DAYLIGHT
TZNAME:EDT
DTSTART:20230312T020000
TZOFFSETFROM:-0500
TZOFFSETTO:-0400
RDATE:20240310T020000
END:DAYLIGHT
END:VTIMEZONE
BEGIN:VEVENT
UID:15ec824d-263f-4761-9509-8d86a5917226
DTSTAMP:20260421T152525Z
DESCRIPTION:1 Block House Island Road\, Brockville\, ON\nREGISTRATION AT 7:
 00 PM\nSTROLLING BEGINS AT 7:30PM\n'WALK AT YOUR OWN PACE THROUGH CANADA'S
  OLDEST RAILWAY TUNNEL THEN AROUND BLOCK HOUSE ISLAND'\nEXPERT SPEAKERS\, 
 DOOR PRIZES\, FUN FOR ALL!
DTSTART;TZID=America/New_York:20230721T190000
DTEND;TZID=America/New_York:20230721T210000
LOCATION:Brockville Railway Tunnel (south portal entrance)
SUMMARY:Summer Stroll for Sjögren's
END:VEVENT
END:VCALENDAR
