BEGIN:VCALENDAR
VERSION:2.0
PRODID:-//sjogrenscanada.org//NONSGML kigkonsult.se iCalcreator 2.30.10//
CALSCALE:GREGORIAN
METHOD:PUBLISH
UID:fe255118-efad-413e-bb6e-87a4e2178b47
X-WR-CALDESC:
X-WR-RELCALID:be4f08b148f397cdfef045e0906b892c
X-WR-TIMEZONE:America/New_York
BEGIN:VTIMEZONE
TZID:America/New_York
BEGIN:STANDARD
TZNAME:EST
DTSTART:20221106T020000
TZOFFSETFROM:-0400
TZOFFSETTO:-0500
RDATE:20231105T020000
RDATE:20241103T020000
END:STANDARD
BEGIN:DAYLIGHT
TZNAME:EDT
DTSTART:20230312T020000
TZOFFSETFROM:-0500
TZOFFSETTO:-0400
RDATE:20240310T020000
END:DAYLIGHT
END:VTIMEZONE
BEGIN:VEVENT
UID:9058c1e7-374e-41a3-9bd0-442380b6c36e
DTSTAMP:20260421T152402Z
DESCRIPTION:
DTSTART;TZID=America/New_York:20230729T080000
DTEND;TZID=America/New_York:20230729T130000
LOCATION:229 Stonemanor Ave\, Whitby\, ON L1R 1X9 CA
SUMMARY:Durham Region Garage Sale
END:VEVENT
END:VCALENDAR
