BEGIN:VCALENDAR
VERSION:2.0
PRODID:-//sjogrenscanada.org//NONSGML kigkonsult.se iCalcreator 2.30.10//
CALSCALE:GREGORIAN
METHOD:PUBLISH
UID:e9821360-c26f-479b-9a85-d288b4dc58b5
X-WR-CALDESC:
X-WR-RELCALID:450e8ea5ed61c239f726d980a7b14036
X-WR-TIMEZONE:America/New_York
BEGIN:VTIMEZONE
TZID:America/New_York
BEGIN:STANDARD
TZNAME:EST
DTSTART:20221106T020000
TZOFFSETFROM:-0400
TZOFFSETTO:-0500
RDATE:20231105T020000
RDATE:20241103T020000
END:STANDARD
BEGIN:DAYLIGHT
TZNAME:EDT
DTSTART:20230312T020000
TZOFFSETFROM:-0500
TZOFFSETTO:-0400
RDATE:20240310T020000
END:DAYLIGHT
END:VTIMEZONE
BEGIN:VEVENT
UID:4ea6701a-6fd5-489d-860e-831ffc1591fc
DTSTAMP:20260421T170808Z
DESCRIPTION:
DTSTART;TZID=America/New_York:20230831T193000
DTEND;TZID=America/New_York:20230831T210000
LOCATION:https://us02web.zoom.us/j/81734565793?pwd=QVVEZG1YbFFHLzd5dFhHZjVt
 dTdnUT09
SUMMARY:Greater Toronto Area (GTA) Support Group Meeting
END:VEVENT
END:VCALENDAR
