BEGIN:VCALENDAR
VERSION:2.0
PRODID:-//sjogrenscanada.org//NONSGML kigkonsult.se iCalcreator 2.30.10//
CALSCALE:GREGORIAN
METHOD:PUBLISH
UID:6adb5ff3-c1dc-4a27-a2b6-078578264db6
X-WR-CALDESC:Kick off the giving Season this GIVING TUESDAY!\nHelp us reach
  our one day goal of raising $5\,000.\nEvery $1 donated will be matched up
  to $10\,000!
X-WR-RELCALID:485e33908c57945701c308223c93705b
X-WR-TIMEZONE:America/New_York
BEGIN:VTIMEZONE
TZID:America/New_York
BEGIN:STANDARD
TZNAME:EST
DTSTART:20241103T020000
TZOFFSETFROM:-0400
TZOFFSETTO:-0500
RDATE:20251102T020000
END:STANDARD
BEGIN:DAYLIGHT
TZNAME:EDT
DTSTART:20240310T020000
TZOFFSETFROM:-0500
TZOFFSETTO:-0400
RDATE:20250309T020000
RDATE:20260308T020000
END:DAYLIGHT
END:VTIMEZONE
BEGIN:VEVENT
UID:c8bd4332-c911-409b-ae66-a8764d28e135
DTSTAMP:20260420T141048Z
DESCRIPTION:Kick off the giving Season this GIVING TUESDAY!\nHelp us reach 
 our one day goal of raising $5\,000.\nEvery $1 donated will be matched up 
 to $10\,000!
DTSTART;TZID=America/New_York:20241203T060000
DTEND;TZID=America/New_York:20241203T060001
LOCATION:https://www.canadahelps.org/en/dn/m/123087
SUMMARY:GivingTuesday
END:VEVENT
END:VCALENDAR
