BEGIN:VCALENDAR
VERSION:2.0
PRODID:-//sjogrenscanada.org//NONSGML kigkonsult.se iCalcreator 2.30.10//
CALSCALE:GREGORIAN
METHOD:PUBLISH
UID:e85575ab-1e74-4435-9ed7-f1d7b58eb154
X-WR-CALDESC:Jennifer Tabrizi\, Yoga Instructor/Personal Trainer\, presenti
 ng \n“Stress Less\, Shine More:  Holiday Strategies for the Sjögren’s Comm
 unity”
X-WR-RELCALID:aecb7e3eab2d02c5dbe29775c3158751
X-WR-TIMEZONE:America/New_York
BEGIN:VTIMEZONE
TZID:America/New_York
BEGIN:STANDARD
TZNAME:EST
DTSTART:20241103T020000
TZOFFSETFROM:-0400
TZOFFSETTO:-0500
RDATE:20251102T020000
END:STANDARD
BEGIN:DAYLIGHT
TZNAME:EDT
DTSTART:20240310T020000
TZOFFSETFROM:-0500
TZOFFSETTO:-0400
RDATE:20250309T020000
RDATE:20260308T020000
END:DAYLIGHT
END:VTIMEZONE
BEGIN:VEVENT
UID:87a48574-752d-42fa-a53e-6db752cc2c71
DTSTAMP:20260420T141405Z
DESCRIPTION:Jennifer Tabrizi\, Yoga Instructor/Personal Trainer\, presentin
 g \n“Stress Less\, Shine More:  Holiday Strategies for the Sjögren’s Commu
 nity”
DTSTART;TZID=America/New_York:20241204T190000
DTEND;TZID=America/New_York:20241204T203000
LOCATION:https://us02web.zoom.us/webinar/register/WN_0eresSJuTIa7DKyUVNXEjQ
 #/registration
SUMMARY:Members Only Virtual Town Hall
END:VEVENT
END:VCALENDAR
