BEGIN:VCALENDAR
VERSION:2.0
PRODID:-//sjogrenscanada.org//NONSGML kigkonsult.se iCalcreator 2.30.10//
CALSCALE:GREGORIAN
METHOD:PUBLISH
UID:4ea963f7-ce9f-407b-9d4d-32ce5707b7f3
X-WR-CALDESC:Sharing & Caring
X-WR-RELCALID:d763dd545ceec685391018f9f5039263
X-WR-TIMEZONE:America/New_York
BEGIN:VTIMEZONE
TZID:America/New_York
BEGIN:STANDARD
TZNAME:EST
DTSTART:20241103T020000
TZOFFSETFROM:-0400
TZOFFSETTO:-0500
RDATE:20251102T020000
END:STANDARD
BEGIN:DAYLIGHT
TZNAME:EDT
DTSTART:20240310T020000
TZOFFSETFROM:-0500
TZOFFSETTO:-0400
RDATE:20250309T020000
RDATE:20260308T020000
END:DAYLIGHT
END:VTIMEZONE
BEGIN:VEVENT
UID:5370fb0d-d704-4e6a-8825-d5d169b91533
DTSTAMP:20260420T141812Z
DESCRIPTION:Sharing & Caring
DTSTART;TZID=America/New_York:20241211T190000
DTEND;TZID=America/New_York:20241211T210000
LOCATION:https://us02web.zoom.us/j/81384181108?pwd=00wFr8mUPat1GowdUTUVWec7
 QLGTdy.1
SUMMARY:Durham Region Support Group Meeting
END:VEVENT
END:VCALENDAR
