BEGIN:VCALENDAR
VERSION:2.0
PRODID:-//sjogrenscanada.org//NONSGML kigkonsult.se iCalcreator 2.30.10//
CALSCALE:GREGORIAN
METHOD:PUBLISH
UID:496fa57f-acc1-4904-971a-3b9314ce457f
X-WR-CALDESC:Sharing & Caring
X-WR-RELCALID:26832ef414317e8df985704a5c6cc4d4
X-WR-TIMEZONE:America/New_York
BEGIN:VTIMEZONE
TZID:America/New_York
BEGIN:STANDARD
TZNAME:EST
DTSTART:20241103T020000
TZOFFSETFROM:-0400
TZOFFSETTO:-0500
RDATE:20251102T020000
END:STANDARD
BEGIN:DAYLIGHT
TZNAME:EDT
DTSTART:20240310T020000
TZOFFSETFROM:-0500
TZOFFSETTO:-0400
RDATE:20250309T020000
RDATE:20260308T020000
END:DAYLIGHT
END:VTIMEZONE
BEGIN:VEVENT
UID:2f92982d-f0c9-4695-81ed-a41d71ebce26
DTSTAMP:20260420T123847Z
DESCRIPTION:Sharing & Caring
DTSTART;TZID=America/New_York:20250122T190000
DTEND;TZID=America/New_York:20250122T210000
LOCATION:https://us02web.zoom.us/j/81191341413?pwd=iQ2pKJmXvEKqsdP6uDnTNEeT
 9ess0C.1
SUMMARY:Durham Region Support Group Meeting
END:VEVENT
END:VCALENDAR
