BEGIN:VCALENDAR
VERSION:2.0
PRODID:-//sjogrenscanada.org//NONSGML kigkonsult.se iCalcreator 2.30.10//
CALSCALE:GREGORIAN
METHOD:PUBLISH
UID:8ea2c295-2465-4209-b139-5ad661cf9308
X-WR-CALDESC:Sharing & Caring
X-WR-RELCALID:383d820b16250d1d18130d186bbe3f55
X-WR-TIMEZONE:America/New_York
BEGIN:VTIMEZONE
TZID:America/New_York
BEGIN:STANDARD
TZNAME:EST
DTSTART:20241103T020000
TZOFFSETFROM:-0400
TZOFFSETTO:-0500
RDATE:20251102T020000
END:STANDARD
BEGIN:DAYLIGHT
TZNAME:EDT
DTSTART:20240310T020000
TZOFFSETFROM:-0500
TZOFFSETTO:-0400
RDATE:20250309T020000
RDATE:20260308T020000
END:DAYLIGHT
END:VTIMEZONE
BEGIN:VEVENT
UID:b0a8d5fd-1bb7-4403-8c6d-04bb115831b4
DTSTAMP:20260420T124448Z
DESCRIPTION:Sharing & Caring
DTSTART;TZID=America/New_York:20250129T190000
DTEND;TZID=America/New_York:20250129T210000
LOCATION:https://carleton-ca.zoom.us/j/97918556342
SUMMARY:Ottawa Support Group Meeting
END:VEVENT
END:VCALENDAR
