BEGIN:VCALENDAR
VERSION:2.0
PRODID:-//sjogrenscanada.org//NONSGML kigkonsult.se iCalcreator 2.30.10//
CALSCALE:GREGORIAN
METHOD:PUBLISH
UID:f2cc37ff-8116-4d2f-ba41-c95eec020510
X-WR-CALDESC:Sharing & Caring
X-WR-RELCALID:8c25e052d0e7c70fffdf36a409fb5852
X-WR-TIMEZONE:America/Chicago
BEGIN:VTIMEZONE
TZID:America/Chicago
BEGIN:STANDARD
TZNAME:CST
DTSTART:20241103T020000
TZOFFSETFROM:-0500
TZOFFSETTO:-0600
RDATE:20251102T020000
END:STANDARD
BEGIN:DAYLIGHT
TZNAME:CDT
DTSTART:20240310T020000
TZOFFSETFROM:-0600
TZOFFSETTO:-0500
RDATE:20250309T020000
RDATE:20260308T020000
END:DAYLIGHT
END:VTIMEZONE
BEGIN:VEVENT
UID:514c4bdc-16f1-4b0d-89e2-7edb6d60b17a
DTSTAMP:20260420T110050Z
DESCRIPTION:Sharing & Caring
DTSTART;TZID=America/Chicago:20250219T183000
DTEND;TZID=America/Chicago:20250219T203000
LOCATION:https://us02web.zoom.us/j/89987546003?pwd=93a9zWCtrJFP69aFsiiTAbUW
 cmpZPc.1
SUMMARY:Manitoba Support Group Meeting
END:VEVENT
END:VCALENDAR
