BEGIN:VCALENDAR
VERSION:2.0
PRODID:-//sjogrenscanada.org//NONSGML kigkonsult.se iCalcreator 2.30.10//
CALSCALE:GREGORIAN
METHOD:PUBLISH
UID:fbb333bd-e6f0-4b8f-9a2b-ff04fa599710
X-WR-CALDESC:
X-WR-RELCALID:dee2424ab6881a563758a007c1e249fe
X-WR-TIMEZONE:America/New_York
BEGIN:VTIMEZONE
TZID:America/New_York
BEGIN:STANDARD
TZNAME:EST
DTSTART:20241103T020000
TZOFFSETFROM:-0400
TZOFFSETTO:-0500
RDATE:20251102T020000
END:STANDARD
BEGIN:DAYLIGHT
TZNAME:EDT
DTSTART:20240310T020000
TZOFFSETFROM:-0500
TZOFFSETTO:-0400
RDATE:20250309T020000
RDATE:20260308T020000
END:DAYLIGHT
END:VTIMEZONE
BEGIN:VEVENT
UID:3d1e6883-3370-453f-8f48-789a8e76d330
DTSTAMP:20260420T110419Z
DESCRIPTION:
DTSTART;TZID=America/New_York:20250226T190000
DTEND;TZID=America/New_York:20250226T210000
LOCATION:https://us02web.zoom.us/j/82009971772?pwd=jNmHvw13XBUEekVCGxVbLQmh
 pMKcno.1
SUMMARY:Durham Region Support Group Meeting
END:VEVENT
END:VCALENDAR
