BEGIN:VCALENDAR
VERSION:2.0
PRODID:-//sjogrenscanada.org//NONSGML kigkonsult.se iCalcreator 2.30.10//
CALSCALE:GREGORIAN
METHOD:PUBLISH
UID:2c40ec93-3698-4e28-a373-80791446cf50
X-WR-CALDESC:Dr. Arthur Bookman\nCoordinator of the Multidisciplinary Sjögr
 en’s Clinic at the University Health Network in Toronto and Chair of the S
 jSC Medical Advisory Board.\n'What is good Sjögren's Care?
X-WR-RELCALID:fe6bd2d40c5e65dd27f6874b6d52ac84
X-WR-TIMEZONE:America/New_York
BEGIN:VTIMEZONE
TZID:America/New_York
BEGIN:STANDARD
TZNAME:EST
DTSTART:20241103T020000
TZOFFSETFROM:-0400
TZOFFSETTO:-0500
RDATE:20251102T020000
END:STANDARD
BEGIN:DAYLIGHT
TZNAME:EDT
DTSTART:20240310T020000
TZOFFSETFROM:-0500
TZOFFSETTO:-0400
RDATE:20250309T020000
RDATE:20260308T020000
END:DAYLIGHT
END:VTIMEZONE
BEGIN:VEVENT
UID:89bfc174-69ac-4a42-bee8-d6589a594883
DTSTAMP:20260420T110029Z
DESCRIPTION:Dr. Arthur Bookman\nCoordinator of the Multidisciplinary Sjögre
 n’s Clinic at the University Health Network in Toronto and Chair of the Sj
 SC Medical Advisory Board.\n'What is good Sjögren's Care?
DTSTART;TZID=America/New_York:20250227T190000
DTEND;TZID=America/New_York:20250227T203000
LOCATION:https://us02web.zoom.us/webinar/register/WN_NcGUst0NTcu66INO7Yp6gQ
SUMMARY:Members Only Virtual Town Hall
END:VEVENT
END:VCALENDAR
