BEGIN:VCALENDAR
VERSION:2.0
PRODID:-//sjogrenscanada.org//NONSGML kigkonsult.se iCalcreator 2.30.10//
CALSCALE:GREGORIAN
METHOD:PUBLISH
UID:9f393cda-519a-4064-8e52-a58236d572c6
X-WR-CALDESC:
X-WR-RELCALID:87d7fd57f603e216fb90586e330a5632
X-WR-TIMEZONE:America/New_York
BEGIN:VTIMEZONE
TZID:America/New_York
BEGIN:STANDARD
TZNAME:EST
DTSTART:20241103T020000
TZOFFSETFROM:-0400
TZOFFSETTO:-0500
RDATE:20251102T020000
END:STANDARD
BEGIN:DAYLIGHT
TZNAME:EDT
DTSTART:20250309T020000
TZOFFSETFROM:-0500
TZOFFSETTO:-0400
RDATE:20260308T020000
END:DAYLIGHT
END:VTIMEZONE
BEGIN:VEVENT
UID:4eabb623-512f-4a8f-9a0e-500b34869a05
DTSTAMP:20260420T092521Z
DESCRIPTION:
DTSTART;TZID=America/New_York:20250319T190000
DTEND;TZID=America/New_York:20250319T210000
LOCATION:https://us02web.zoom.us/j/88087379250?pwd=wrsbsqpoqk9ZiMCQgnLhvwwC
 UWdXuY.1
SUMMARY:Durham Region Support Group Meeting
END:VEVENT
END:VCALENDAR
