BEGIN:VCALENDAR
VERSION:2.0
PRODID:-//sjogrenscanada.org//NONSGML kigkonsult.se iCalcreator 2.30.10//
CALSCALE:GREGORIAN
METHOD:PUBLISH
UID:0ce1237d-6b6c-458f-940e-d39e84d30965
X-WR-CALDESC:
X-WR-RELCALID:a50064cd5457412b959c24c9cbc0847d
X-WR-TIMEZONE:America/Denver
BEGIN:VTIMEZONE
TZID:America/Denver
BEGIN:STANDARD
TZNAME:MST
DTSTART:20241103T020000
TZOFFSETFROM:-0600
TZOFFSETTO:-0700
RDATE:20251102T020000
END:STANDARD
BEGIN:DAYLIGHT
TZNAME:MDT
DTSTART:20250309T020000
TZOFFSETFROM:-0700
TZOFFSETTO:-0600
RDATE:20260308T020000
END:DAYLIGHT
END:VTIMEZONE
BEGIN:VEVENT
UID:25f2b900-6363-45dc-8d5d-cb6744efa9fa
DTSTAMP:20260420T093234Z
DESCRIPTION:
DTSTART;TZID=America/Denver:20250320T100000
DTEND;TZID=America/Denver:20250320T120000
LOCATION:https://us02web.zoom.us/j/85790836360?pwd=nKr4YyULgvk9TFxi4rGXUZ0k
 4oEL5C.1
SUMMARY:Edmonton Support Group Meeting
END:VEVENT
END:VCALENDAR
