BEGIN:VCALENDAR
VERSION:2.0
PRODID:-//sjogrenscanada.org//NONSGML kigkonsult.se iCalcreator 2.30.10//
CALSCALE:GREGORIAN
METHOD:PUBLISH
UID:ae66ec8e-5f5b-458b-9cb3-f3890b864441
X-WR-CALDESC:
X-WR-RELCALID:c2ea0b2792988e8b8b167b4fd4ca0c94
X-WR-TIMEZONE:America/New_York
BEGIN:VTIMEZONE
TZID:America/New_York
BEGIN:STANDARD
TZNAME:EST
DTSTART:20241103T020000
TZOFFSETFROM:-0400
TZOFFSETTO:-0500
RDATE:20251102T020000
END:STANDARD
BEGIN:DAYLIGHT
TZNAME:EDT
DTSTART:20250309T020000
TZOFFSETFROM:-0500
TZOFFSETTO:-0400
RDATE:20260308T020000
END:DAYLIGHT
END:VTIMEZONE
BEGIN:VEVENT
UID:65adcc30-1d23-49a1-bf48-b4cf759493f3
DTSTAMP:20260420T091722Z
DESCRIPTION:
DTSTART;TZID=America/New_York:20250326T190000
DTEND;TZID=America/New_York:20250326T200000
LOCATION:https://us02web.zoom.us/j/86736952984?pwd=o2paCKQtqlaraU3JbCF7DbmK
 9aD0sj.1
SUMMARY:AGM
END:VEVENT
END:VCALENDAR
