BEGIN:VCALENDAR
VERSION:2.0
PRODID:-//sjogrenscanada.org//NONSGML kigkonsult.se iCalcreator 2.30.10//
CALSCALE:GREGORIAN
METHOD:PUBLISH
UID:f0a28bcd-4c0d-4efb-b94f-5549e2a6635d
X-WR-CALDESC:
X-WR-RELCALID:a4fe66dec9e912be42fc8274e6191b10
X-WR-TIMEZONE:America/New_York
BEGIN:VTIMEZONE
TZID:America/New_York
BEGIN:STANDARD
TZNAME:EST
DTSTART:20241103T020000
TZOFFSETFROM:-0400
TZOFFSETTO:-0500
RDATE:20251102T020000
END:STANDARD
BEGIN:DAYLIGHT
TZNAME:EDT
DTSTART:20250309T020000
TZOFFSETFROM:-0500
TZOFFSETTO:-0400
RDATE:20260308T020000
END:DAYLIGHT
END:VTIMEZONE
BEGIN:VEVENT
UID:64de79bc-840b-42fc-8186-af1cdb39eeb4
DTSTAMP:20260420T093127Z
DESCRIPTION:
DTSTART;TZID=America/New_York:20250327T190000
DTEND;TZID=America/New_York:20250327T210000
LOCATION:https://carleton-ca.zoom.us/j/94219216450
SUMMARY:Ottawa Support Group Meeting
END:VEVENT
END:VCALENDAR
