BEGIN:VCALENDAR
VERSION:2.0
PRODID:-//sjogrenscanada.org//NONSGML kigkonsult.se iCalcreator 2.30.10//
CALSCALE:GREGORIAN
METHOD:PUBLISH
UID:e9463547-763c-460f-b8d5-fd09c6029460
X-WR-CALDESC:
X-WR-RELCALID:e02d56977f5b321649656ca75bb7c6ce
X-WR-TIMEZONE:America/New_York
BEGIN:VTIMEZONE
TZID:America/New_York
BEGIN:STANDARD
TZNAME:EST
DTSTART:20241103T020000
TZOFFSETFROM:-0400
TZOFFSETTO:-0500
RDATE:20251102T020000
END:STANDARD
BEGIN:DAYLIGHT
TZNAME:EDT
DTSTART:20250309T020000
TZOFFSETFROM:-0500
TZOFFSETTO:-0400
RDATE:20260308T020000
END:DAYLIGHT
END:VTIMEZONE
BEGIN:VEVENT
UID:75ca63af-f7bf-4784-a92b-870af98d78c1
DTSTAMP:20260420T073551Z
DESCRIPTION:
DTSTART;TZID=America/New_York:20250402T190000
DTEND;TZID=America/New_York:20250402T210000
LOCATION:https://us02web.zoom.us/j/87539301174?pwd=YFwKEmvjuxFuUMctAhBinj6l
 4LMYA9.1
SUMMARY:Ancaster\, Hamilton\, Burlington\, Oakville Support Group Meeting
END:VEVENT
END:VCALENDAR
