BEGIN:VCALENDAR
VERSION:2.0
PRODID:-//sjogrenscanada.org//NONSGML kigkonsult.se iCalcreator 2.30.10//
CALSCALE:GREGORIAN
METHOD:PUBLISH
UID:93495739-f068-40ad-bd9a-b7ed3173c438
X-WR-CALDESC:
X-WR-RELCALID:95c39a6264b1aedd3b12b270835c132a
X-WR-TIMEZONE:America/Denver
BEGIN:VTIMEZONE
TZID:America/Denver
BEGIN:STANDARD
TZNAME:MST
DTSTART:20241103T020000
TZOFFSETFROM:-0600
TZOFFSETTO:-0700
RDATE:20251102T020000
END:STANDARD
BEGIN:DAYLIGHT
TZNAME:MDT
DTSTART:20250309T020000
TZOFFSETFROM:-0700
TZOFFSETTO:-0600
RDATE:20260308T020000
END:DAYLIGHT
END:VTIMEZONE
BEGIN:VEVENT
UID:f0110747-c051-40b9-b986-1123fdcca201
DTSTAMP:20260420T073638Z
DESCRIPTION:
DTSTART;TZID=America/Denver:20250416T170000
DTEND;TZID=America/Denver:20250416T180000
LOCATION:https://meet.google.com/zrd-qpkz-gkd
SUMMARY:Calgary Support Group Meeting
END:VEVENT
END:VCALENDAR
