BEGIN:VCALENDAR
VERSION:2.0
PRODID:-//sjogrenscanada.org//NONSGML kigkonsult.se iCalcreator 2.30.10//
CALSCALE:GREGORIAN
METHOD:PUBLISH
UID:96fa472b-542d-448a-8600-d75e0c1d18ec
X-WR-CALDESC:
X-WR-RELCALID:e89bf3cd7b5ae26d9fd9b746c9429bb0
X-WR-TIMEZONE:America/New_York
BEGIN:VTIMEZONE
TZID:America/New_York
BEGIN:STANDARD
TZNAME:EST
DTSTART:20241103T020000
TZOFFSETFROM:-0400
TZOFFSETTO:-0500
RDATE:20251102T020000
END:STANDARD
BEGIN:DAYLIGHT
TZNAME:EDT
DTSTART:20250309T020000
TZOFFSETFROM:-0500
TZOFFSETTO:-0400
RDATE:20260308T020000
END:DAYLIGHT
END:VTIMEZONE
BEGIN:VEVENT
UID:f30786c5-cd1d-462a-90d8-47862e48f863
DTSTAMP:20260420T073820Z
DESCRIPTION:
DTSTART;TZID=America/New_York:20250423T190000
DTEND;TZID=America/New_York:20250423T210000
LOCATION:https://us02web.zoom.us/j/81814125559?pwd=4yG6slaO0ZgduXm3aLOWfEd4
 9MZy4K.1
SUMMARY:Durham Region Support Group Meeting
END:VEVENT
END:VCALENDAR
