BEGIN:VCALENDAR
VERSION:2.0
PRODID:-//sjogrenscanada.org//NONSGML kigkonsult.se iCalcreator 2.30.10//
CALSCALE:GREGORIAN
METHOD:PUBLISH
UID:912b6549-0e2f-4041-a8dc-9840aad0c466
X-WR-CALDESC:Registration is now open for our National Patient Conference.
X-WR-RELCALID:3e774466a0508700ea7be02bc64b46e9
X-WR-TIMEZONE:America/New_York
BEGIN:VTIMEZONE
TZID:America/New_York
BEGIN:STANDARD
TZNAME:EST
DTSTART:20241103T020000
TZOFFSETFROM:-0400
TZOFFSETTO:-0500
RDATE:20251102T020000
END:STANDARD
BEGIN:DAYLIGHT
TZNAME:EDT
DTSTART:20250309T020000
TZOFFSETFROM:-0500
TZOFFSETTO:-0400
RDATE:20260308T020000
END:DAYLIGHT
END:VTIMEZONE
BEGIN:VEVENT
UID:1ec01ed5-1983-4270-a334-8a2aab5ac6b0
DTSTAMP:20260420T073638Z
DESCRIPTION:Registration is now open for our National Patient Conference.
DTSTART;TZID=America/New_York:20250426T110000
DTEND;TZID=America/New_York:20250426T150000
LOCATION:
SUMMARY:SjSC National Patient Conference
END:VEVENT
END:VCALENDAR
