BEGIN:VCALENDAR
VERSION:2.0
PRODID:-//sjogrenscanada.org//NONSGML kigkonsult.se iCalcreator 2.30.10//
CALSCALE:GREGORIAN
METHOD:PUBLISH
UID:b49ca6cf-5893-47b7-9e59-0da025671fb9
X-WR-CALDESC:Sharing & Caring
X-WR-RELCALID:b16776e7ff8408a6de4d0d707ff5adb6
X-WR-TIMEZONE:America/Chicago
BEGIN:VTIMEZONE
TZID:America/Chicago
BEGIN:STANDARD
TZNAME:CST
DTSTART:20241103T020000
TZOFFSETFROM:-0500
TZOFFSETTO:-0600
RDATE:20251102T020000
RDATE:20261101T020000
END:STANDARD
BEGIN:DAYLIGHT
TZNAME:CDT
DTSTART:20250309T020000
TZOFFSETFROM:-0600
TZOFFSETTO:-0500
RDATE:20260308T020000
END:DAYLIGHT
END:VTIMEZONE
BEGIN:VEVENT
UID:e553aa0f-b3a1-461c-9468-9819b4d56816
DTSTAMP:20260420T060207Z
DESCRIPTION:Sharing & Caring
DTSTART;TZID=America/Chicago:20250506T183000
DTEND;TZID=America/Chicago:20250506T203000
LOCATION:https://us02web.zoom.us/j/82768826475?pwd=TW6OL3ovZqLNJpjfbhVix5I4
 vhZNMB.1
SUMMARY:Manitoba Support Group Meeting
END:VEVENT
END:VCALENDAR
