BEGIN:VCALENDAR
VERSION:2.0
PRODID:-//sjogrenscanada.org//NONSGML kigkonsult.se iCalcreator 2.30.10//
CALSCALE:GREGORIAN
METHOD:PUBLISH
UID:a2ac376a-acdd-4fff-aee6-82aca80d787a
X-WR-CALDESC:
X-WR-RELCALID:ef62589452ec9286634d900ef8d1958c
X-WR-TIMEZONE:America/New_York
BEGIN:VTIMEZONE
TZID:America/New_York
BEGIN:STANDARD
TZNAME:EST
DTSTART:20241103T020000
TZOFFSETFROM:-0400
TZOFFSETTO:-0500
RDATE:20251102T020000
RDATE:20261101T020000
END:STANDARD
BEGIN:DAYLIGHT
TZNAME:EDT
DTSTART:20250309T020000
TZOFFSETFROM:-0500
TZOFFSETTO:-0400
RDATE:20260308T020000
END:DAYLIGHT
END:VTIMEZONE
BEGIN:VEVENT
UID:edd555fb-4ed9-4369-87fb-75f926fe6823
DTSTAMP:20260420T060212Z
DESCRIPTION:
DTSTART;TZID=America/New_York:20250513T170000
DTEND;TZID=America/New_York:20250513T180000
LOCATION:https://us02web.zoom.us/j/87341120963?pwd=j1pWurP6CKKanTo0B78JXf1v
 JiP2rz.1
SUMMARY:Montreal Support Group Meeting
END:VEVENT
END:VCALENDAR
