BEGIN:VCALENDAR
VERSION:2.0
PRODID:-//sjogrenscanada.org//NONSGML kigkonsult.se iCalcreator 2.30.10//
CALSCALE:GREGORIAN
METHOD:PUBLISH
UID:8306ee74-77c5-4f67-8ba2-fa94b5c33010
X-WR-CALDESC:
X-WR-RELCALID:4d9d3f72796660a213eef0eb41b61ef9
X-WR-TIMEZONE:America/New_York
BEGIN:VTIMEZONE
TZID:America/New_York
BEGIN:STANDARD
TZNAME:EST
DTSTART:20241103T020000
TZOFFSETFROM:-0400
TZOFFSETTO:-0500
RDATE:20251102T020000
RDATE:20261101T020000
END:STANDARD
BEGIN:DAYLIGHT
TZNAME:EDT
DTSTART:20250309T020000
TZOFFSETFROM:-0500
TZOFFSETTO:-0400
RDATE:20260308T020000
END:DAYLIGHT
END:VTIMEZONE
BEGIN:VEVENT
UID:fee72589-2949-4be8-9985-73608f3cbf06
DTSTAMP:20260420T055446Z
DESCRIPTION:
DTSTART;TZID=America/New_York:20250521T190000
DTEND;TZID=America/New_York:20250521T210000
LOCATION:https://us02web.zoom.us/j/89956431893?pwd=YEbHEUrAX7XaG6bk6yI8dr0i
 2URCU2.1
SUMMARY:Durham Region Support Group Meeting
END:VEVENT
END:VCALENDAR
