BEGIN:VCALENDAR
VERSION:2.0
PRODID:-//sjogrenscanada.org//NONSGML kigkonsult.se iCalcreator 2.30.10//
CALSCALE:GREGORIAN
METHOD:PUBLISH
UID:0a4a5d89-bf24-495c-823d-4410fa7e1927
X-WR-CALDESC:
X-WR-RELCALID:431dab10f6323d1cb1f8463273c51f0b
X-WR-TIMEZONE:America/New_York
BEGIN:VTIMEZONE
TZID:America/New_York
BEGIN:STANDARD
TZNAME:EST
DTSTART:20241103T020000
TZOFFSETFROM:-0400
TZOFFSETTO:-0500
RDATE:20251102T020000
RDATE:20261101T020000
END:STANDARD
BEGIN:DAYLIGHT
TZNAME:EDT
DTSTART:20250309T020000
TZOFFSETFROM:-0500
TZOFFSETTO:-0400
RDATE:20260308T020000
END:DAYLIGHT
END:VTIMEZONE
BEGIN:VEVENT
UID:b01af912-99b4-4da3-bc9c-73c6ed21b8cb
DTSTAMP:20260420T043011Z
DESCRIPTION:
DTSTART;TZID=America/New_York:20250618T190000
DTEND;TZID=America/New_York:20250618T210000
LOCATION:https://us02web.zoom.us/j/82459419170?pwd=GLr1iPoa9wmymTxBscSGqCxL
 4tGSBQ.1
SUMMARY:Durham Region Support Group Meeting
END:VEVENT
END:VCALENDAR
