BEGIN:VCALENDAR
VERSION:2.0
PRODID:-//sjogrenscanada.org//NONSGML kigkonsult.se iCalcreator 2.30.10//
CALSCALE:GREGORIAN
METHOD:PUBLISH
UID:4d94340d-7dd8-45c2-a307-474a370c5733
X-WR-CALDESC:Please reach out to Support Group Leader\, Mary Lou\, if you a
 re interested in attending.\n
X-WR-RELCALID:4fa0872844f9021f4efd50e456d42050
X-WR-TIMEZONE:America/New_York
BEGIN:VTIMEZONE
TZID:America/New_York
BEGIN:STANDARD
TZNAME:EST
DTSTART:20241103T020000
TZOFFSETFROM:-0400
TZOFFSETTO:-0500
RDATE:20251102T020000
RDATE:20261101T020000
END:STANDARD
BEGIN:DAYLIGHT
TZNAME:EDT
DTSTART:20250309T020000
TZOFFSETFROM:-0500
TZOFFSETTO:-0400
RDATE:20260308T020000
END:DAYLIGHT
END:VTIMEZONE
BEGIN:VEVENT
UID:83c25a97-3d05-400c-aa17-b35565e24e47
DTSTAMP:20260420T042315Z
DESCRIPTION:Please reach out to Support Group Leader\, Mary Lou\, if you ar
 e interested in attending.\n
DTSTART;TZID=America/New_York:20250619T100000
DTEND;TZID=America/New_York:20250619T120000
LOCATION:Woodbridge\, ON
SUMMARY:Woodbridge Support Group Meeting
END:VEVENT
END:VCALENDAR
