BEGIN:VCALENDAR
VERSION:2.0
PRODID:-//sjogrenscanada.org//NONSGML kigkonsult.se iCalcreator 2.30.10//
CALSCALE:GREGORIAN
METHOD:PUBLISH
UID:4e593d87-9df7-4b47-9cb0-58dde43ba9e0
X-WR-CALDESC:Guest Speaker\, Christine Peschken\, MD MSc FRCPC\n\nDr. Chris
 tine Peschken is a Professor in the Departments of Medicine and Community 
 Health Sciences\, Max Rady College of Medicine\, Rady Faculty of Health Sc
 iences\, University of Manitoba. She is the current Division Head for the 
 Division of Rheumatology\, Department of Internal Medicine\, University of
  Manitoba.\n\nDr. Peschken is an established investigator in outcomes in s
 ystemic lupus erythematosus\, with special emphasis on and expertise in he
 alth disparities in vulnerable populations with lupus. She is a member of 
 the Systemic Lupus International Collaborating Clinics (SLICC)\, and is th
 e chair of Canadian network for improved outcomes of systemic lupus erythe
 matosus (CaNIOS).
X-WR-RELCALID:cfa46ad703e6074f048a90ae6f6d437a
X-WR-TIMEZONE:America/Chicago
BEGIN:VTIMEZONE
TZID:America/Chicago
BEGIN:STANDARD
TZNAME:CST
DTSTART:20241103T020000
TZOFFSETFROM:-0500
TZOFFSETTO:-0600
RDATE:20251102T020000
RDATE:20261101T020000
END:STANDARD
BEGIN:DAYLIGHT
TZNAME:CDT
DTSTART:20250309T020000
TZOFFSETFROM:-0600
TZOFFSETTO:-0500
RDATE:20260308T020000
END:DAYLIGHT
END:VTIMEZONE
BEGIN:VEVENT
UID:74e7defa-f1ba-4546-a31b-8ff913e023b2
DTSTAMP:20260420T043145Z
DESCRIPTION:Guest Speaker\, Christine Peschken\, MD MSc FRCPC\n\nDr. Christ
 ine Peschken is a Professor in the Departments of Medicine and Community H
 ealth Sciences\, Max Rady College of Medicine\, Rady Faculty of Health Sci
 ences\, University of Manitoba. She is the current Division Head for the D
 ivision of Rheumatology\, Department of Internal Medicine\, University of 
 Manitoba.\n\nDr. Peschken is an established investigator in outcomes in sy
 stemic lupus erythematosus\, with special emphasis on and expertise in hea
 lth disparities in vulnerable populations with lupus. She is a member of t
 he Systemic Lupus International Collaborating Clinics (SLICC)\, and is the
  chair of Canadian network for improved outcomes of systemic lupus erythem
 atosus (CaNIOS).
DTSTART;TZID=America/Chicago:20250623T160000
DTEND;TZID=America/Chicago:20250623T180000
LOCATION:https://us02web.zoom.us/j/87573196369?pwd=aZ6HT2bD3x1HkBD39BDR0ACK
 W9fqfB.1
SUMMARY:Manitoba Support Group Meeting
END:VEVENT
END:VCALENDAR
