BEGIN:VCALENDAR
VERSION:2.0
PRODID:-//sjogrenscanada.org//NONSGML kigkonsult.se iCalcreator 2.30.10//
CALSCALE:GREGORIAN
METHOD:PUBLISH
UID:9d0e347f-4ddf-4ace-9fd7-2137bd244c49
X-WR-CALDESC:
X-WR-RELCALID:cb87338b870cfeae6881d64c8e524d25
X-WR-TIMEZONE:America/New_York
BEGIN:VTIMEZONE
TZID:America/New_York
BEGIN:STANDARD
TZNAME:EST
DTSTART:20241103T020000
TZOFFSETFROM:-0400
TZOFFSETTO:-0500
RDATE:20251102T020000
RDATE:20261101T020000
END:STANDARD
BEGIN:DAYLIGHT
TZNAME:EDT
DTSTART:20250309T020000
TZOFFSETFROM:-0500
TZOFFSETTO:-0400
RDATE:20260308T020000
END:DAYLIGHT
END:VTIMEZONE
BEGIN:VEVENT
UID:7262d407-eef9-4fd2-8359-59f92175ba9c
DTSTAMP:20260420T025519Z
DESCRIPTION:
DTSTART;TZID=America/New_York:20250730T190000
DTEND;TZID=America/New_York:20250730T210000
LOCATION:https://us02web.zoom.us/j/87843017097?pwd=uEdwIgDe6qmlpRnyfb4yeDlx
 7lsBta.1
SUMMARY:Durham Region Support Group Meeting
END:VEVENT
END:VCALENDAR
