BEGIN:VCALENDAR
VERSION:2.0
PRODID:-//sjogrenscanada.org//NONSGML kigkonsult.se iCalcreator 2.30.10//
CALSCALE:GREGORIAN
METHOD:PUBLISH
UID:722f9f2c-17ec-4ee9-b366-583dafd09e17
X-WR-CALDESC:
X-WR-RELCALID:ec52834dac2892f26ce206887c31d313
X-WR-TIMEZONE:America/New_York
BEGIN:VTIMEZONE
TZID:America/New_York
BEGIN:STANDARD
TZNAME:EST
DTSTART:20241103T020000
TZOFFSETFROM:-0400
TZOFFSETTO:-0500
RDATE:20251102T020000
RDATE:20261101T020000
END:STANDARD
BEGIN:DAYLIGHT
TZNAME:EDT
DTSTART:20250309T020000
TZOFFSETFROM:-0500
TZOFFSETTO:-0400
RDATE:20260308T020000
END:DAYLIGHT
END:VTIMEZONE
BEGIN:VEVENT
UID:f2edb285-b1bb-4506-9354-469d10c01036
DTSTAMP:20260420T024707Z
DESCRIPTION:
DTSTART;TZID=America/New_York:20250730T190000
DTEND;TZID=America/New_York:20250730T210000
LOCATION:https://carleton-ca.zoom.us/j/94116791353
SUMMARY:Ottawa Support Group Meeting
END:VEVENT
END:VCALENDAR
