BEGIN:VCALENDAR
VERSION:2.0
PRODID:-//sjogrenscanada.org//NONSGML kigkonsult.se iCalcreator 2.30.10//
CALSCALE:GREGORIAN
METHOD:PUBLISH
UID:ddf1b76f-ae6f-4a46-9043-ad06488d1321
X-WR-CALDESC:
X-WR-RELCALID:5fe2607324bab317d896612d50179af2
X-WR-TIMEZONE:America/New_York
BEGIN:VTIMEZONE
TZID:America/New_York
BEGIN:STANDARD
TZNAME:EST
DTSTART:20241103T020000
TZOFFSETFROM:-0400
TZOFFSETTO:-0500
RDATE:20251102T020000
RDATE:20261101T020000
END:STANDARD
BEGIN:DAYLIGHT
TZNAME:EDT
DTSTART:20250309T020000
TZOFFSETFROM:-0500
TZOFFSETTO:-0400
RDATE:20260308T020000
END:DAYLIGHT
END:VTIMEZONE
BEGIN:VEVENT
UID:c9211d90-ae0f-4eb3-a9bb-c570a6d38348
DTSTAMP:20260420T011712Z
DESCRIPTION:
DTSTART;TZID=America/New_York:20250820T190000
DTEND;TZID=America/New_York:20250820T210000
LOCATION:https://us02web.zoom.us/j/81631051412?pwd=bQEB2YJrUBrXumITgdBghlka
 YHS8OD.1
SUMMARY:Durham Region Support Group Meeting
END:VEVENT
END:VCALENDAR
