BEGIN:VCALENDAR
VERSION:2.0
PRODID:-//sjogrenscanada.org//NONSGML kigkonsult.se iCalcreator 2.30.10//
CALSCALE:GREGORIAN
METHOD:PUBLISH
UID:7baea33f-3f98-4e40-a7e7-5b34806a11ce
X-WR-CALDESC:
X-WR-RELCALID:4535635c540d0e253bff630e37c19f85
X-WR-TIMEZONE:America/New_York
BEGIN:VTIMEZONE
TZID:America/New_York
BEGIN:STANDARD
TZNAME:EST
DTSTART:20241103T020000
TZOFFSETFROM:-0400
TZOFFSETTO:-0500
RDATE:20251102T020000
RDATE:20261101T020000
END:STANDARD
BEGIN:DAYLIGHT
TZNAME:EDT
DTSTART:20250309T020000
TZOFFSETFROM:-0500
TZOFFSETTO:-0400
RDATE:20260308T020000
RDATE:20270314T020000
END:DAYLIGHT
END:VTIMEZONE
BEGIN:VEVENT
UID:14ee3410-75c1-4d83-81b5-129a2192e0c5
DTSTAMP:20260419T235337Z
DESCRIPTION:
DTSTART;TZID=America/New_York:20250917T190000
DTEND;TZID=America/New_York:20250917T210000
LOCATION:https://us02web.zoom.us/j/82260123504?pwd=bVd2bNSPtODgVp4yKgx3jKkF
 qzF7x8.1
SUMMARY:Durham Region Support Group Meeting
END:VEVENT
END:VCALENDAR
