BEGIN:VCALENDAR
VERSION:2.0
PRODID:-//sjogrenscanada.org//NONSGML kigkonsult.se iCalcreator 2.30.10//
CALSCALE:GREGORIAN
METHOD:PUBLISH
UID:0a64da71-98e3-4e44-ad95-87b3cb9518b3
X-WR-CALDESC:Please reach out to Support Group Leader\, Mary Lou\, if you a
 re interested in attending this event.
X-WR-RELCALID:f320bf8a146040d87bf0df67167f671a
X-WR-TIMEZONE:America/New_York
BEGIN:VTIMEZONE
TZID:America/New_York
BEGIN:STANDARD
TZNAME:EST
DTSTART:20241103T020000
TZOFFSETFROM:-0400
TZOFFSETTO:-0500
RDATE:20251102T020000
RDATE:20261101T020000
END:STANDARD
BEGIN:DAYLIGHT
TZNAME:EDT
DTSTART:20250309T020000
TZOFFSETFROM:-0500
TZOFFSETTO:-0400
RDATE:20260308T020000
RDATE:20270314T020000
END:DAYLIGHT
END:VTIMEZONE
BEGIN:VEVENT
UID:2629d888-d1ad-4a91-8f0f-18ea41bc9ab7
DTSTAMP:20260419T235712Z
DESCRIPTION:Please reach out to Support Group Leader\, Mary Lou\, if you ar
 e interested in attending this event.
DTSTART;TZID=America/New_York:20250918T100000
DTEND;TZID=America/New_York:20250918T120000
LOCATION:Woodbridge\, ON
SUMMARY:Woodbridge Support Group Meeting
END:VEVENT
END:VCALENDAR
