BEGIN:VCALENDAR
VERSION:2.0
PRODID:-//sjogrenscanada.org//NONSGML kigkonsult.se iCalcreator 2.30.10//
CALSCALE:GREGORIAN
METHOD:PUBLISH
UID:ce4ef68e-5578-44fd-83c5-6fec4b1f4823
X-WR-CALDESC:Join one of our city walks or walk in your neighbourhood!
X-WR-RELCALID:7c034069e7e1ded47fd1d99797b8b730
X-WR-TIMEZONE:America/New_York
BEGIN:VTIMEZONE
TZID:America/New_York
BEGIN:STANDARD
TZNAME:EST
DTSTART:20241103T020000
TZOFFSETFROM:-0400
TZOFFSETTO:-0500
RDATE:20251102T020000
RDATE:20261101T020000
END:STANDARD
BEGIN:DAYLIGHT
TZNAME:EDT
DTSTART:20250309T020000
TZOFFSETFROM:-0500
TZOFFSETTO:-0400
RDATE:20260308T020000
RDATE:20270314T020000
END:DAYLIGHT
END:VTIMEZONE
BEGIN:VEVENT
UID:287d1895-b5d0-4cba-9c9d-fdf68b23d2e0
DTSTAMP:20260419T235217Z
DESCRIPTION:Join one of our city walks or walk in your neighbourhood!
DTSTART;TZID=America/New_York:20250920T060000
DTEND;TZID=America/New_York:20250920T060001
LOCATION:
SUMMARY:National Walk for Sjögren's
END:VEVENT
END:VCALENDAR
