BEGIN:VCALENDAR
VERSION:2.0
PRODID:-//sjogrenscanada.org//NONSGML kigkonsult.se iCalcreator 2.30.10//
CALSCALE:GREGORIAN
METHOD:PUBLISH
UID:63defdbf-e4d1-4886-95a1-d8ba208810fd
X-WR-CALDESC:
X-WR-RELCALID:3fc408ee80abd7793c423615e6a33dc0
X-WR-TIMEZONE:America/New_York
BEGIN:VTIMEZONE
TZID:America/New_York
BEGIN:STANDARD
TZNAME:EST
DTSTART:20241103T020000
TZOFFSETFROM:-0400
TZOFFSETTO:-0500
RDATE:20251102T020000
RDATE:20261101T020000
END:STANDARD
BEGIN:DAYLIGHT
TZNAME:EDT
DTSTART:20250309T020000
TZOFFSETFROM:-0500
TZOFFSETTO:-0400
RDATE:20260308T020000
RDATE:20270314T020000
END:DAYLIGHT
END:VTIMEZONE
BEGIN:VEVENT
UID:80bffd9f-3adf-4e8c-8186-9988c59b893c
DTSTAMP:20260419T221516Z
DESCRIPTION:
DTSTART;TZID=America/New_York:20251001T183000
DTEND;TZID=America/New_York:20251001T200000
LOCATION:https://us02web.zoom.us/j/83376119560?pwd=4zlbbTQNvePBq1p5QqHlHatL
 mJAr29.1
SUMMARY:Montreal Support Group Meeting
END:VEVENT
END:VCALENDAR
