BEGIN:VCALENDAR
VERSION:2.0
PRODID:-//sjogrenscanada.org//NONSGML kigkonsult.se iCalcreator 2.30.10//
CALSCALE:GREGORIAN
METHOD:PUBLISH
UID:7c6e2122-e42c-4f0d-bfce-efd47b9543d9
X-WR-CALDESC:
X-WR-RELCALID:8abfd134dbcca126c3153cbeb68e6347
X-WR-TIMEZONE:America/Chicago
BEGIN:VTIMEZONE
TZID:America/Chicago
BEGIN:STANDARD
TZNAME:CST
DTSTART:20241103T020000
TZOFFSETFROM:-0500
TZOFFSETTO:-0600
RDATE:20251102T020000
RDATE:20261101T020000
END:STANDARD
BEGIN:DAYLIGHT
TZNAME:CDT
DTSTART:20250309T020000
TZOFFSETFROM:-0600
TZOFFSETTO:-0500
RDATE:20260308T020000
RDATE:20270314T020000
END:DAYLIGHT
END:VTIMEZONE
BEGIN:VEVENT
UID:777a6617-d05e-4e8e-a6ef-6d4aad0fa24d
DTSTAMP:20260419T222159Z
DESCRIPTION:
DTSTART;TZID=America/Chicago:20251007T183000
DTEND;TZID=America/Chicago:20251007T203000
LOCATION:https://us02web.zoom.us/j/83306660467?pwd=upQIi12zLrjQKq0dBXIN7FLs
 80hQFA.1
SUMMARY:Manitoba Support Group Meeting
END:VEVENT
END:VCALENDAR
