BEGIN:VCALENDAR
VERSION:2.0
PRODID:-//sjogrenscanada.org//NONSGML kigkonsult.se iCalcreator 2.30.10//
CALSCALE:GREGORIAN
METHOD:PUBLISH
UID:efb94984-3c2c-4c6a-97c6-4212d94fc9aa
X-WR-CALDESC:
X-WR-RELCALID:442c28be530705b0ecc2ae2b9c876198
X-WR-TIMEZONE:America/New_York
BEGIN:VTIMEZONE
TZID:America/New_York
BEGIN:STANDARD
TZNAME:EST
DTSTART:20241103T020000
TZOFFSETFROM:-0400
TZOFFSETTO:-0500
RDATE:20251102T020000
RDATE:20261101T020000
END:STANDARD
BEGIN:DAYLIGHT
TZNAME:EDT
DTSTART:20250309T020000
TZOFFSETFROM:-0500
TZOFFSETTO:-0400
RDATE:20260308T020000
RDATE:20270314T020000
END:DAYLIGHT
END:VTIMEZONE
BEGIN:VEVENT
UID:78744fc5-46c1-430a-95ad-5c31ee495b6b
DTSTAMP:20260419T221733Z
DESCRIPTION:
DTSTART;TZID=America/New_York:20251008T183000
DTEND;TZID=America/New_York:20251008T200000
LOCATION:https://us02web.zoom.us/j/81633597891?pwd=7SZoXvd5FEIaaoyvONYtZgx1
 MzrFrc.1
SUMMARY:Montreal Support Group Meeting
END:VEVENT
END:VCALENDAR
