BEGIN:VCALENDAR
VERSION:2.0
PRODID:-//sjogrenscanada.org//NONSGML kigkonsult.se iCalcreator 2.30.10//
CALSCALE:GREGORIAN
METHOD:PUBLISH
UID:b495923e-85c1-4ddb-8696-e74e307bef87
X-WR-CALDESC:Guest Presenter - Dr. Brian Yan\, Gastroenterologist\n
X-WR-RELCALID:f5b2114469797d16976595d0c534232a
X-WR-TIMEZONE:America/New_York
BEGIN:VTIMEZONE
TZID:America/New_York
BEGIN:STANDARD
TZNAME:EST
DTSTART:20241103T020000
TZOFFSETFROM:-0400
TZOFFSETTO:-0500
RDATE:20251102T020000
RDATE:20261101T020000
END:STANDARD
BEGIN:DAYLIGHT
TZNAME:EDT
DTSTART:20250309T020000
TZOFFSETFROM:-0500
TZOFFSETTO:-0400
RDATE:20260308T020000
RDATE:20270314T020000
END:DAYLIGHT
END:VTIMEZONE
BEGIN:VEVENT
UID:a54eaffe-e18b-4ec3-9330-8a66aaff1461
DTSTAMP:20260419T222035Z
DESCRIPTION:Guest Presenter - Dr. Brian Yan\, Gastroenterologist\n
DTSTART;TZID=America/New_York:20251015T190000
DTEND;TZID=America/New_York:20251015T203000
LOCATION:
SUMMARY:Members Only Virtual Town Hall
END:VEVENT
END:VCALENDAR
