BEGIN:VCALENDAR
VERSION:2.0
PRODID:-//sjogrenscanada.org//NONSGML kigkonsult.se iCalcreator 2.30.10//
CALSCALE:GREGORIAN
METHOD:PUBLISH
UID:b9a2c915-04f3-4eda-85a0-3f9fe02d48ad
X-WR-CALDESC:
X-WR-RELCALID:46b672506e50ec78214244f3f34f4bbe
X-WR-TIMEZONE:America/New_York
BEGIN:VTIMEZONE
TZID:America/New_York
BEGIN:STANDARD
TZNAME:EST
DTSTART:20241103T020000
TZOFFSETFROM:-0400
TZOFFSETTO:-0500
RDATE:20251102T020000
RDATE:20261101T020000
END:STANDARD
BEGIN:DAYLIGHT
TZNAME:EDT
DTSTART:20250309T020000
TZOFFSETFROM:-0500
TZOFFSETTO:-0400
RDATE:20260308T020000
RDATE:20270314T020000
END:DAYLIGHT
END:VTIMEZONE
BEGIN:VEVENT
UID:f28a871d-3d85-4b93-93fe-59b0927aa1a6
DTSTAMP:20260419T222034Z
DESCRIPTION:
DTSTART;TZID=America/New_York:20251022T190000
DTEND;TZID=America/New_York:20251022T210000
LOCATION:https://us02web.zoom.us/j/83295339695?pwd=v9niMYkmbhkBoOGGaVteHYcU
 P9i6dk.1
SUMMARY:Durham Region Support Group Meeting
END:VEVENT
END:VCALENDAR
