BEGIN:VCALENDAR
VERSION:2.0
PRODID:-//sjogrenscanada.org//NONSGML kigkonsult.se iCalcreator 2.30.10//
CALSCALE:GREGORIAN
METHOD:PUBLISH
UID:0e5ac9b3-ec1c-4618-91f1-e50fdcecab6f
X-WR-CALDESC:
X-WR-RELCALID:4edcb178d812a25e03d929be1270005b
X-WR-TIMEZONE:America/New_York
BEGIN:VTIMEZONE
TZID:America/New_York
BEGIN:STANDARD
TZNAME:EST
DTSTART:20251102T020000
TZOFFSETFROM:-0400
TZOFFSETTO:-0500
RDATE:20261101T020000
END:STANDARD
BEGIN:DAYLIGHT
TZNAME:EDT
DTSTART:20250309T020000
TZOFFSETFROM:-0500
TZOFFSETTO:-0400
RDATE:20260308T020000
RDATE:20270314T020000
END:DAYLIGHT
END:VTIMEZONE
BEGIN:VEVENT
UID:fad05601-f2c6-4d14-a339-8dd33560e382
DTSTAMP:20260419T210140Z
DESCRIPTION:
DTSTART;TZID=America/New_York:20251119T190000
DTEND;TZID=America/New_York:20251119T210000
LOCATION:https://us02web.zoom.us/j/84633705019?pwd=D6J2tFMmNGdL5unlllOBqgE8
 AG3lRL.1
SUMMARY:Durham Region Support Group Meeting
END:VEVENT
END:VCALENDAR
