BEGIN:VCALENDAR
VERSION:2.0
PRODID:-//sjogrenscanada.org//NONSGML kigkonsult.se iCalcreator 2.30.10//
CALSCALE:GREGORIAN
METHOD:PUBLISH
UID:3e3b2051-732c-442e-98ce-81815dab05f0
X-WR-CALDESC:• Double Your Impact This GivingTuesday\n• Your Gift Will Be M
 atched — Up to $20\,000!\n• Help Us Reach Our GivingTuesday Goal of $7\,00
 0!
X-WR-RELCALID:c8867b98fc9e9f517178a07d42d67627
X-WR-TIMEZONE:America/New_York
BEGIN:VTIMEZONE
TZID:America/New_York
BEGIN:STANDARD
TZNAME:EST
DTSTART:20251102T020000
TZOFFSETFROM:-0400
TZOFFSETTO:-0500
RDATE:20261101T020000
END:STANDARD
BEGIN:DAYLIGHT
TZNAME:EDT
DTSTART:20250309T020000
TZOFFSETFROM:-0500
TZOFFSETTO:-0400
RDATE:20260308T020000
RDATE:20270314T020000
END:DAYLIGHT
END:VTIMEZONE
BEGIN:VEVENT
UID:da4ae4a4-fb0b-4e2e-aa35-bd347e0aa028
DTSTAMP:20260419T191711Z
DESCRIPTION:• Double Your Impact This GivingTuesday\n• Your Gift Will Be Ma
 tched — Up to $20\,000!\n• Help Us Reach Our GivingTuesday Goal of $7\,000
 !
DTSTART;TZID=America/New_York:20251202T060000
DTEND;TZID=America/New_York:20251202T060001
LOCATION:https://www.canadahelps.org/en/dn/138739
SUMMARY:GivingTuesday
END:VEVENT
END:VCALENDAR
