BEGIN:VCALENDAR
VERSION:2.0
PRODID:-//sjogrenscanada.org//NONSGML kigkonsult.se iCalcreator 2.30.10//
CALSCALE:GREGORIAN
METHOD:PUBLISH
UID:c0beaead-5fb1-4588-9fd6-3b9c49731c28
X-WR-CALDESC:Sharing & Caring
X-WR-RELCALID:2f76cd174a0b19963b073a4f1f6beb2c
X-WR-TIMEZONE:America/Regina
BEGIN:VTIMEZONE
TZID:America/Regina
BEGIN:STANDARD
TZNAME:CST
DTSTART:20240308T060000
TZOFFSETFROM:+0000
TZOFFSETTO:-0600
END:STANDARD
END:VTIMEZONE
BEGIN:VEVENT
UID:7ebc1969-6e0c-4ef5-b153-b33a2f8e0329
DTSTAMP:20260419T192329Z
DESCRIPTION:Sharing & Caring
DTSTART;TZID=America/Regina:20251208T180000
DTEND;TZID=America/Regina:20251208T200000
LOCATION:https://us02web.zoom.us/j/88195016718?pwd=tkMS4unetVSo9xlVUDThaQK8
 kGQNC3.1
SUMMARY:Saskatchewan Support Group Meeting
END:VEVENT
END:VCALENDAR
